BEGIN:VCALENDAR
VERSION:2.0
PRODID:-//GEBÄUDEDIGITAL - ECPv6.15.20//NONSGML v1.0//EN
CALSCALE:GREGORIAN
METHOD:PUBLISH
X-ORIGINAL-URL:https://gebaeudedigital.de.staging.tedo.dev
X-WR-CALDESC:Veranstaltungen für GEBÄUDEDIGITAL
REFRESH-INTERVAL;VALUE=DURATION:PT1H
X-Robots-Tag:noindex
X-PUBLISHED-TTL:PT1H
BEGIN:VTIMEZONE
TZID:Europe/Berlin
BEGIN:DAYLIGHT
TZOFFSETFROM:+0100
TZOFFSETTO:+0200
TZNAME:CEST
DTSTART:20250330T010000
END:DAYLIGHT
BEGIN:STANDARD
TZOFFSETFROM:+0200
TZOFFSETTO:+0100
TZNAME:CET
DTSTART:20251026T010000
END:STANDARD
BEGIN:DAYLIGHT
TZOFFSETFROM:+0100
TZOFFSETTO:+0200
TZNAME:CEST
DTSTART:20260329T010000
END:DAYLIGHT
BEGIN:STANDARD
TZOFFSETFROM:+0200
TZOFFSETTO:+0100
TZNAME:CET
DTSTART:20261025T010000
END:STANDARD
BEGIN:DAYLIGHT
TZOFFSETFROM:+0100
TZOFFSETTO:+0200
TZNAME:CEST
DTSTART:20270328T010000
END:DAYLIGHT
BEGIN:STANDARD
TZOFFSETFROM:+0200
TZOFFSETTO:+0100
TZNAME:CET
DTSTART:20271031T010000
END:STANDARD
END:VTIMEZONE
BEGIN:VEVENT
DTSTART;TZID=Europe/Berlin:20260623T000000
DTEND;TZID=Europe/Berlin:20260625T235959
DTSTAMP:20260420T052705
CREATED:20251117T133055Z
LAST-MODIFIED:20251117T133055Z
UID:894288-1782172800-1782431999@gebaeudedigital.de.staging.tedo.dev
SUMMARY:EM-Power Europe
DESCRIPTION:Die EM-Power Europe ist die internationale Fachmesse für Energiemanagement und vernetzte Energielösungen. Unter dem Motto ‚Empowering Grids and Prosumers‘ nimmt sie das gesamte Energiesystem in den Blick – von den Übertragungs- und Verteilnetzen bis hin zu den angeschlossenen Prosumern und Verbrauchern. Im Fokus stehen die Modernisierung\, Digitalisierung und intelligente Steuerung der Stromnetze sowie die Integration dezentraler Anlagen\, deren Flexibilität für eine stabile\, zuverlässige und erneuerbare Stromversorgung entscheidend ist. Die EM-Power Europe findet vom 23.–25. Juni 2026 – erstmals mit der neuen Messelaufzeit von Dienstag bis Donnerstag – im Rahmen von The Smarter E Europe\, Europas größter Messeallianz für die Energiewirtschaft\, auf der Messe München statt. \nBild: Solar Promotion GmbH
URL:https://gebaeudedigital.de.staging.tedo.dev/termin/em-power-europe-2/
CATEGORIES:Veranstaltungen
ATTACH;FMTTYPE=image/jpeg:https://cdn.tedo.be/tedo-mu/wp_uploads/sites/11/2025/11/Web.jpeg
END:VEVENT
BEGIN:VEVENT
DTSTART;TZID=Europe/Berlin:20260623T000000
DTEND;TZID=Europe/Berlin:20260625T235959
DTSTAMP:20260420T052705
CREATED:20251117T134829Z
LAST-MODIFIED:20251117T134829Z
UID:894294-1782172800-1782431999@gebaeudedigital.de.staging.tedo.dev
SUMMARY:Power2Drive Europe
DESCRIPTION:Die Power2Drive Europe ist die internationale Fachmesse für Ladeinfrastruktur und Elektromobilität. Unter dem Motto ‚Charging the Future of Mobility‘ bietet sie den idealen Branchentreffpunkt für Hersteller\, Händler\, Installateure\, Fuhrpark- und Energiemanager\, Ladesäulenbetreiber und E-Mobility-Provider sowie Startups. Die Fachmesse stellt neueste Technologien\, Lösungen und Geschäftsmodelle für eine nachhaltige Mobilitätswelt in den Fokus. Besonders im Mittelpunkt stehen Ladeinfrastruktur\, bidirektionales Laden\, Megawatt Charging und Smart Charging. \n\n\n\n \n\n\nDie Power2Drive Europe findet vom 23.–25. Juni 2026 – erstmals mit der neuen Messelaufzeit von Dienstag bis Donnerstag – im Rahmen von The Smarter E Europe\, Europas größter Messeallianz für die Energiewirtschaft\, auf der Messe München statt – mit einem klaren Fokus auf das Zusammenspiel von Elektrofahrzeugen\, intelligenter Ladeinfrastruktur und erneuerbaren Energien. \nBild: Solar Promotion GmbH
URL:https://gebaeudedigital.de.staging.tedo.dev/termin/power2drive-europe/
CATEGORIES:Veranstaltungen
ATTACH;FMTTYPE=image/jpeg:https://cdn.tedo.be/tedo-mu/wp_uploads/sites/11/2025/11/Druck.jpeg
END:VEVENT
END:VCALENDAR